BEGIN:VCALENDAR
VERSION:2.0
PRODID:-//ArtistAlley - ECPv6.15.20//NONSGML v1.0//EN
CALSCALE:GREGORIAN
METHOD:PUBLISH
X-WR-CALNAME:ArtistAlley
X-ORIGINAL-URL:https://artistsalley.net
X-WR-CALDESC:Events for ArtistAlley
REFRESH-INTERVAL;VALUE=DURATION:PT1H
X-Robots-Tag:noindex
X-PUBLISHED-TTL:PT1H
BEGIN:VTIMEZONE
TZID:America/Detroit
BEGIN:DAYLIGHT
TZOFFSETFROM:-0500
TZOFFSETTO:-0400
TZNAME:EDT
DTSTART:20220313T070000
END:DAYLIGHT
BEGIN:STANDARD
TZOFFSETFROM:-0400
TZOFFSETTO:-0500
TZNAME:EST
DTSTART:20221106T060000
END:STANDARD
BEGIN:DAYLIGHT
TZOFFSETFROM:-0500
TZOFFSETTO:-0400
TZNAME:EDT
DTSTART:20230312T070000
END:DAYLIGHT
BEGIN:STANDARD
TZOFFSETFROM:-0400
TZOFFSETTO:-0500
TZNAME:EST
DTSTART:20231105T060000
END:STANDARD
BEGIN:DAYLIGHT
TZOFFSETFROM:-0500
TZOFFSETTO:-0400
TZNAME:EDT
DTSTART:20240310T070000
END:DAYLIGHT
BEGIN:STANDARD
TZOFFSETFROM:-0400
TZOFFSETTO:-0500
TZNAME:EST
DTSTART:20241103T060000
END:STANDARD
END:VTIMEZONE
BEGIN:VEVENT
DTSTART;VALUE=DATE:20230818
DTEND;VALUE=DATE:20230821
DTSTAMP:20260424T004752
CREATED:20230629T024253Z
LAST-MODIFIED:20230629T024253Z
UID:2459-1692316800-1692575999@artistsalley.net
SUMMARY:Supernatural Official Convention North Carolina
DESCRIPTION:Rev up your Supernatural engines! We look forward to celebrating the beloved show with headliners Jensen Ackles\, Jared Padalecki and Misha Collins and other amazing guests\, as we give our SPN family a memorable experience.
URL:https://artistsalley.net/events/supernatural-official-convention-north-carolina/
LOCATION:Embassy Suites Concord\, 5400 John Q. Hammons Dr NW\, Concord\, North Carolina\, 28027\, United States
CATEGORIES:TV (non-anime/Sci-fi)
END:VEVENT
BEGIN:VEVENT
DTSTART;VALUE=DATE:20230818
DTEND;VALUE=DATE:20230821
DTSTAMP:20260424T004752
CREATED:20230629T012959Z
LAST-MODIFIED:20230629T032443Z
UID:2265-1692316800-1692575999@artistsalley.net
SUMMARY:Soda City Comic Con 2023
DESCRIPTION:
URL:https://artistsalley.net/events/soda-city-comic-con-2023/
LOCATION:Columbia Metropolitan Convention Center\, 1101 Lincoln St\, Columbia\, South Carolina\, 29201\, United States
END:VEVENT
BEGIN:VEVENT
DTSTART;VALUE=DATE:20230818
DTEND;VALUE=DATE:20230821
DTSTAMP:20260424T004752
CREATED:20230629T012957Z
LAST-MODIFIED:20230629T032158Z
UID:2264-1692316800-1692575999@artistsalley.net
SUMMARY:Natsukashii Con 2023
DESCRIPTION:
URL:https://artistsalley.net/events/natsukashii-con-2023/
LOCATION:Eisenhower Hotel & Conference Center\, 2634 Emmitsburg Rd\, Gettysburg\, Pensylvania\, 17325\, United States
END:VEVENT
BEGIN:VEVENT
DTSTART;VALUE=DATE:20230818
DTEND;VALUE=DATE:20230821
DTSTAMP:20260424T004752
CREATED:20230629T012955Z
LAST-MODIFIED:20230629T032044Z
UID:2263-1692316800-1692575999@artistsalley.net
SUMMARY:Maryland Pop and Horror Con
DESCRIPTION:
URL:https://artistsalley.net/events/maryland-pop-and-horror-con/
LOCATION:DoubleTree by Hilton Hotel Baltimore North – Pikesville\, 1726 Reisterstown Rd\, Pikesville\, Maryland\, 21208\, United States
CATEGORIES:Comic Book
END:VEVENT
BEGIN:VEVENT
DTSTART;VALUE=DATE:20230818
DTEND;VALUE=DATE:20230821
DTSTAMP:20260424T004752
CREATED:20230629T012942Z
LAST-MODIFIED:20230629T031931Z
UID:2262-1692316800-1692575999@artistsalley.net
SUMMARY:HorrorHound Weekend - Indianapolis 2023
DESCRIPTION:
URL:https://artistsalley.net/events/horrorhound-weekend-indianapolis-2023/
LOCATION:Indianapolis Convention Center\, 100 South Capitol Ave\, Indianapolis\, Indiana\, 46225\, United States
END:VEVENT
BEGIN:VEVENT
DTSTART;VALUE=DATE:20230818
DTEND;VALUE=DATE:20230821
DTSTAMP:20260424T004752
CREATED:20230629T012939Z
LAST-MODIFIED:20230629T031652Z
UID:2261-1692316800-1692575999@artistsalley.net
SUMMARY:DenFur
DESCRIPTION:
URL:https://artistsalley.net/events/denfur/
LOCATION:Sheraton Denver Downtown Hotel\, Denver\, CO\, United States
CATEGORIES:Furry
END:VEVENT
BEGIN:VEVENT
DTSTART;VALUE=DATE:20230818
DTEND;VALUE=DATE:20230821
DTSTAMP:20260424T004752
CREATED:20230629T012937Z
LAST-MODIFIED:20230629T031201Z
UID:2260-1692316800-1692575999@artistsalley.net
SUMMARY:Bubonicon
DESCRIPTION:
URL:https://artistsalley.net/events/bubonicon/
LOCATION:Marriott Albuquerque\, 2101 Louisiana Blvd NE\, Albuquerque\, New Mexico\, 87110\, United States
CATEGORIES:Fantasy,Sci-Fi
END:VEVENT
BEGIN:VEVENT
DTSTART;VALUE=DATE:20230818
DTEND;VALUE=DATE:20230821
DTSTAMP:20260424T004752
CREATED:20230629T012934Z
LAST-MODIFIED:20230629T023101Z
UID:2259-1692316800-1692575999@artistsalley.net
SUMMARY:Anime Magic!
DESCRIPTION:
URL:https://artistsalley.net/events/anime-magic-2023/
LOCATION:Hyatt Regency O’Hare Chicago / Donald E. Stephens Convention Center\, 9300 W Bryn Mawr Ave\, Rosemont\, Illinois\, 60018\, United States
CATEGORIES:Anime
END:VEVENT
BEGIN:VEVENT
DTSTART;VALUE=DATE:20230812
DTEND;VALUE=DATE:20230814
DTSTAMP:20260424T004752
CREATED:20230629T012922Z
LAST-MODIFIED:20230629T032212Z
UID:2257-1691798400-1691971199@artistsalley.net
SUMMARY:New Orleans Comic Con
DESCRIPTION:
URL:https://artistsalley.net/events/new-orleans-comic-con/
LOCATION:Pontchartrain Convention & Civic Center\, Kenner\, LA\, United States
CATEGORIES:Comic Book
END:VEVENT
BEGIN:VEVENT
DTSTART;VALUE=DATE:20230812
DTEND;VALUE=DATE:20230813
DTSTAMP:20260424T004752
CREATED:20230629T012931Z
LAST-MODIFIED:20230629T032442Z
UID:2258-1691798400-1691884799@artistsalley.net
SUMMARY:SoCal IdolFest 2023
DESCRIPTION:
URL:https://artistsalley.net/events/socal-idolfest-2023/
LOCATION:Torrance Cultural Arts Center\, Torrance\, CA\, United States
END:VEVENT
BEGIN:VEVENT
DTSTART;VALUE=DATE:20230812
DTEND;VALUE=DATE:20230813
DTSTAMP:20260424T004752
CREATED:20230629T012920Z
LAST-MODIFIED:20230629T031754Z
UID:2256-1691798400-1691884799@artistsalley.net
SUMMARY:FayettevilleCon 2023
DESCRIPTION:
URL:https://artistsalley.net/events/fayettevillecon-2023/
LOCATION:DoubleTree by Hilton Hotel Fayetteville\, 1965 Cedar Creek Rd\, Fayetteville\, North Carolina\, 28312\, United States
END:VEVENT
BEGIN:VEVENT
DTSTART;VALUE=DATE:20230811
DTEND;VALUE=DATE:20230814
DTSTAMP:20260424T004752
CREATED:20230629T031856Z
LAST-MODIFIED:20230629T031856Z
UID:2698-1691712000-1691971199@artistsalley.net
SUMMARY:Game On Expo
DESCRIPTION:
URL:https://artistsalley.net/events/game-on-expo/
LOCATION:Phoenix Convention Center\, Phoenix\, AZ\, United States
CATEGORIES:Gaming,Gaming (Non-video)
END:VEVENT
BEGIN:VEVENT
DTSTART;VALUE=DATE:20230811
DTEND;VALUE=DATE:20230814
DTSTAMP:20260424T004752
CREATED:20230629T012919Z
LAST-MODIFIED:20230629T032322Z
UID:2255-1691712000-1691971199@artistsalley.net
SUMMARY:Power-Con 2023
DESCRIPTION:
URL:https://artistsalley.net/events/power-con-2023/
LOCATION:Greater Columbus Convention Center\, 400 N High St\, Columbus\, Ohio\, 43215\, United States
END:VEVENT
BEGIN:VEVENT
DTSTART;VALUE=DATE:20230811
DTEND;VALUE=DATE:20230814
DTSTAMP:20260424T004752
CREATED:20230629T012918Z
LAST-MODIFIED:20230629T032255Z
UID:2254-1691712000-1691971199@artistsalley.net
SUMMARY:Otaku Tattoo Expo: Midland 2023
DESCRIPTION:
URL:https://artistsalley.net/events/otaku-tattoo-expo-midland-2023/
LOCATION:Bush Convention Center\, Midland\, TX\, United States
END:VEVENT
BEGIN:VEVENT
DTSTART;VALUE=DATE:20230811
DTEND;VALUE=DATE:20230814
DTSTAMP:20260424T004752
CREATED:20230629T012916Z
LAST-MODIFIED:20230629T032052Z
UID:2253-1691712000-1691971199@artistsalley.net
SUMMARY:Matsuricon 2023
DESCRIPTION:
URL:https://artistsalley.net/events/matsuricon-2023/
LOCATION:Hyatt Regency Columbus / Greater Columbus Convention Center\, 350 N High St\, Columbus\, Ohio\, 43215\, United States
END:VEVENT
BEGIN:VEVENT
DTSTART;VALUE=DATE:20230811
DTEND;VALUE=DATE:20230814
DTSTAMP:20260424T004752
CREATED:20230629T012858Z
LAST-MODIFIED:20230629T031724Z
UID:2252-1691712000-1691971199@artistsalley.net
SUMMARY:Everfree Northwest 2023
DESCRIPTION:
URL:https://artistsalley.net/events/everfree-northwest-2023/
LOCATION:Hyatt Regency Bellevue On Seattle’s Eastside\, 900 Bellevue Way NE\, Bellevue\, Washington\, 98004\, United States
END:VEVENT
BEGIN:VEVENT
DTSTART;VALUE=DATE:20230810
DTEND;VALUE=DATE:20230814
DTSTAMP:20260424T004752
CREATED:20230629T012857Z
LAST-MODIFIED:20230629T023200Z
UID:2251-1691625600-1691971199@artistsalley.net
SUMMARY:Fan Expo Chicago
DESCRIPTION:
URL:https://artistsalley.net/events/fan-expo-chicago-2023/
LOCATION:Hyatt Regency O’Hare Chicago / Donald E. Stephens Convention Center\, 9300 W Bryn Mawr Ave\, Rosemont\, Illinois\, 60018\, United States
END:VEVENT
BEGIN:VEVENT
DTSTART;VALUE=DATE:20230805
DTEND;VALUE=DATE:20230807
DTSTAMP:20260424T004752
CREATED:20230629T012855Z
LAST-MODIFIED:20230629T032339Z
UID:2250-1691193600-1691366399@artistsalley.net
SUMMARY:Really Cool Comic Con 2023
DESCRIPTION:
URL:https://artistsalley.net/events/really-cool-comic-con-2023/
LOCATION:Dort Federal Credit Union Event Center\, 3501 Lapeer Rd\, Flint\, Michigan\, 48503\, United States
END:VEVENT
BEGIN:VEVENT
DTSTART;VALUE=DATE:20230805
DTEND;VALUE=DATE:20230807
DTSTAMP:20260424T004752
CREATED:20230629T012854Z
LAST-MODIFIED:20230629T032232Z
UID:2249-1691193600-1691366399@artistsalley.net
SUMMARY:OKC's Horror Con 2023
DESCRIPTION:
URL:https://artistsalley.net/events/okcs-horror-con-2023/
LOCATION:Remington Park\, Oklahoma City\, OK\, United States
END:VEVENT
BEGIN:VEVENT
DTSTART;VALUE=DATE:20230805
DTEND;VALUE=DATE:20230807
DTSTAMP:20260424T004752
CREATED:20230629T012808Z
LAST-MODIFIED:20230629T032122Z
UID:2247-1691193600-1691366399@artistsalley.net
SUMMARY:Momento Con 2023
DESCRIPTION:
URL:https://artistsalley.net/events/momento-con-2023/
LOCATION:David L. Lawrence Convention Center\, 1000 Fort Duquesne Blvd\, Pittsburgh\, Pensylvania\, 15222\, United States
END:VEVENT
BEGIN:VEVENT
DTSTART;VALUE=DATE:20230805
DTEND;VALUE=DATE:20230806
DTSTAMP:20260424T004752
CREATED:20230629T012851Z
LAST-MODIFIED:20230629T032128Z
UID:2248-1691193600-1691279999@artistsalley.net
SUMMARY:Monkey Con 2023
DESCRIPTION:
URL:https://artistsalley.net/events/monkey-con-2023/
LOCATION:The Universities at Shady Grove\, Rockville\, MD\, United States
END:VEVENT
BEGIN:VEVENT
DTSTART;VALUE=DATE:20230804
DTEND;VALUE=DATE:20230807
DTSTAMP:20260424T004752
CREATED:20230629T012807Z
LAST-MODIFIED:20230629T031911Z
UID:2246-1691107200-1691366399@artistsalley.net
SUMMARY:Georgia Pop and Horror Con 2023
DESCRIPTION:
URL:https://artistsalley.net/events/georgia-pop-and-horror-con-2023/
LOCATION:Columbus Georgia Convention & Trade Center\, 801 Front Ave\, Columbus\, Ohio\, 31901\, United States
END:VEVENT
BEGIN:VEVENT
DTSTART;VALUE=DATE:20230804
DTEND;VALUE=DATE:20230807
DTSTAMP:20260424T004752
CREATED:20230629T012802Z
LAST-MODIFIED:20230629T031733Z
UID:2245-1691107200-1691366399@artistsalley.net
SUMMARY:Fan Expo Boston
DESCRIPTION:
URL:https://artistsalley.net/events/fan-expo-boston/
LOCATION:Boston Convention and Exhibition Center\, Boston\, MA\, United States
CATEGORIES:Anime,Comic Book,Gaming (Non-video),Sci-Fi,TV (non-anime/Sci-fi)
END:VEVENT
BEGIN:VEVENT
DTSTART;VALUE=DATE:20230804
DTEND;VALUE=DATE:20230807
DTSTAMP:20260424T004752
CREATED:20230629T012800Z
LAST-MODIFIED:20230629T031646Z
UID:2244-1691107200-1691366399@artistsalley.net
SUMMARY:Crunchyroll Expo 2023
DESCRIPTION:
URL:https://artistsalley.net/events/crunchyroll-expo-2023/
LOCATION:San Jose McEnery Convention Center\, San Jose\, CA\, United States
END:VEVENT
BEGIN:VEVENT
DTSTART;VALUE=DATE:20230803
DTEND;VALUE=DATE:20230807
DTSTAMP:20260424T004752
CREATED:20230629T012758Z
LAST-MODIFIED:20230629T032509Z
UID:2243-1691020800-1691366399@artistsalley.net
SUMMARY:STLV: 57-Year Mission 2023
DESCRIPTION:
URL:https://artistsalley.net/events/stlv-57-year-mission-2023/
LOCATION:Rio All-Suite Hotel & Casino\, Las Vegas\, NV\, United States
END:VEVENT
BEGIN:VEVENT
DTSTART;VALUE=DATE:20230803
DTEND;VALUE=DATE:20230807
DTSTAMP:20260424T004752
CREATED:20230629T012750Z
LAST-MODIFIED:20230629T031909Z
UID:2242-1691020800-1691366399@artistsalley.net
SUMMARY:Gen Con
DESCRIPTION:
URL:https://artistsalley.net/events/gen-con/
LOCATION:Indianapolis Convention Center\, 100 South Capitol Ave\, Indianapolis\, Indiana\, 46225\, United States
CATEGORIES:Gaming (Non-video)
END:VEVENT
BEGIN:VEVENT
DTSTART;VALUE=DATE:20230730
DTEND;VALUE=DATE:20230731
DTSTAMP:20260424T004752
CREATED:20230629T012749Z
LAST-MODIFIED:20230629T032208Z
UID:2241-1690675200-1690761599@artistsalley.net
SUMMARY:NEO Comic Con 2023
DESCRIPTION:
URL:https://artistsalley.net/events/neo-comic-con-2023/
LOCATION:Soccer Sportsplex\, North Olmsted\, OH\, United States
END:VEVENT
BEGIN:VEVENT
DTSTART;VALUE=DATE:20230729
DTEND;VALUE=DATE:20230731
DTSTAMP:20260424T004752
CREATED:20230629T012747Z
LAST-MODIFIED:20230629T032354Z
UID:2240-1690588800-1690761599@artistsalley.net
SUMMARY:Rhode Island Anime Con 2023
DESCRIPTION:
URL:https://artistsalley.net/events/rhode-island-anime-con-2023/
LOCATION:Rhode Island Convention Center\, Providence\, RI\, United States
END:VEVENT
BEGIN:VEVENT
DTSTART;VALUE=DATE:20230728
DTEND;VALUE=DATE:20230801
DTSTAMP:20260424T004752
CREATED:20230629T012728Z
LAST-MODIFIED:20230629T041422Z
UID:2234-1690502400-1690847999@artistsalley.net
SUMMARY:AnimeFest
DESCRIPTION:
URL:https://artistsalley.net/events/animefest/
LOCATION:Sheraton Dallas Hotel\, Dallas\, TX\, United States
CATEGORIES:Anime
END:VEVENT
BEGIN:VEVENT
DTSTART;VALUE=DATE:20230728
DTEND;VALUE=DATE:20230731
DTSTAMP:20260424T004752
CREATED:20230629T031718Z
LAST-MODIFIED:20230629T031718Z
UID:2683-1690502400-1690761599@artistsalley.net
SUMMARY:Dream Con
DESCRIPTION:
URL:https://artistsalley.net/events/dream-con/
LOCATION:Austin Convention Center\, Austin\, TX\, United States
CATEGORIES:Anime,Comic Book,Gaming,Gaming (Non-video)
END:VEVENT
END:VCALENDAR