BEGIN:VCALENDAR
VERSION:2.0
PRODID:-//ArtistAlley - ECPv6.15.20//NONSGML v1.0//EN
CALSCALE:GREGORIAN
METHOD:PUBLISH
X-WR-CALNAME:ArtistAlley
X-ORIGINAL-URL:https://artistsalley.net
X-WR-CALDESC:Events for ArtistAlley
REFRESH-INTERVAL;VALUE=DURATION:PT1H
X-Robots-Tag:noindex
X-PUBLISHED-TTL:PT1H
BEGIN:VTIMEZONE
TZID:America/Detroit
BEGIN:DAYLIGHT
TZOFFSETFROM:-0500
TZOFFSETTO:-0400
TZNAME:EDT
DTSTART:20220313T070000
END:DAYLIGHT
BEGIN:STANDARD
TZOFFSETFROM:-0400
TZOFFSETTO:-0500
TZNAME:EST
DTSTART:20221106T060000
END:STANDARD
BEGIN:DAYLIGHT
TZOFFSETFROM:-0500
TZOFFSETTO:-0400
TZNAME:EDT
DTSTART:20230312T070000
END:DAYLIGHT
BEGIN:STANDARD
TZOFFSETFROM:-0400
TZOFFSETTO:-0500
TZNAME:EST
DTSTART:20231105T060000
END:STANDARD
BEGIN:DAYLIGHT
TZOFFSETFROM:-0500
TZOFFSETTO:-0400
TZNAME:EDT
DTSTART:20240310T070000
END:DAYLIGHT
BEGIN:STANDARD
TZOFFSETFROM:-0400
TZOFFSETTO:-0500
TZNAME:EST
DTSTART:20241103T060000
END:STANDARD
END:VTIMEZONE
BEGIN:VEVENT
DTSTART;VALUE=DATE:20230929
DTEND;VALUE=DATE:20231002
DTSTAMP:20260423T183219
CREATED:20230629T025406Z
LAST-MODIFIED:20230629T031127Z
UID:2598-1695945600-1696204799@artistsalley.net
SUMMARY:Beer City Comic Con 2023
DESCRIPTION:
URL:https://artistsalley.net/events/beer-city-comic-con-2023/
LOCATION:Harrah’s Cherokee Center – Asheville\, 87 Haywood St\, Asheville\, North Carolina\, 28801\, United States
CATEGORIES:Comic Book
END:VEVENT
BEGIN:VEVENT
DTSTART;VALUE=DATE:20230923
DTEND;VALUE=DATE:20230925
DTSTAMP:20260423T183219
CREATED:20230629T021247Z
LAST-MODIFIED:20230629T021247Z
UID:2419-1695427200-1695599999@artistsalley.net
SUMMARY:Alamo Hero Con Fall
DESCRIPTION:From rare comic books and collectibles to props and fandom clothes\, Come pick up your con exclusive merch and goodies!
URL:https://artistsalley.net/events/alamo-hero-con-fall/
LOCATION:Schertz Civic Center\, 1400 Schertz Parkway\, Schertz\, Texas\, 78154\, United States
CATEGORIES:Comic Book
END:VEVENT
BEGIN:VEVENT
DTSTART;VALUE=DATE:20230923
DTEND;VALUE=DATE:20230925
DTSTAMP:20260423T183219
CREATED:20230629T021245Z
LAST-MODIFIED:20230629T021245Z
UID:2418-1695427200-1695599999@artistsalley.net
SUMMARY:Alabama Comic Convention
DESCRIPTION:Alabama Comic Convention is a two-day event that brings together a diverse list of guests\, vendors\, artists\, and fan groups\, in an affordable\, family-friendly environment.
URL:https://artistsalley.net/events/alabama-comic-convention/
LOCATION:Birmingham Jefferson Convention Complex\, 2100 Richard Arrington Jr Blvd N\, Birmingham\, AL\, United States
CATEGORIES:Comic Book
END:VEVENT
BEGIN:VEVENT
DTSTART;VALUE=DATE:20230923
DTEND;VALUE=DATE:20230924
DTSTAMP:20260423T183219
CREATED:20230629T025405Z
LAST-MODIFIED:20230629T031106Z
UID:2597-1695427200-1695513599@artistsalley.net
SUMMARY:AshevilleCon 2023
DESCRIPTION:
URL:https://artistsalley.net/events/ashevillecon-2023/
LOCATION:Holiday Inn Asheville – Biltmore West\, 435 Smokey Park Hwy\, Asheville\, North Carolina\, 28806\, United States
END:VEVENT
BEGIN:VEVENT
DTSTART;VALUE=DATE:20230922
DTEND;VALUE=DATE:20230925
DTSTAMP:20260423T183219
CREATED:20230629T032330Z
LAST-MODIFIED:20230629T032330Z
UID:2741-1695340800-1695599999@artistsalley.net
SUMMARY:Rappig Crossing
DESCRIPTION:
URL:https://artistsalley.net/events/rappig-crossing/
LOCATION:Wyndham Indianapolis West\, Indianapolis\, IN\, United States
CATEGORIES:Gaming
END:VEVENT
BEGIN:VEVENT
DTSTART;VALUE=DATE:20230922
DTEND;VALUE=DATE:20230925
DTSTAMP:20260423T183219
CREATED:20230629T025403Z
LAST-MODIFIED:20230629T032407Z
UID:2596-1695340800-1695599999@artistsalley.net
SUMMARY:Rose City Comic Con 2023
DESCRIPTION:
URL:https://artistsalley.net/events/rose-city-comic-con-2023/
LOCATION:Oregon Convention Center\, Portland\, OR\, United States
END:VEVENT
BEGIN:VEVENT
DTSTART;VALUE=DATE:20230922
DTEND;VALUE=DATE:20230925
DTSTAMP:20260423T183219
CREATED:20230629T025402Z
LAST-MODIFIED:20230629T032056Z
UID:2595-1695340800-1695599999@artistsalley.net
SUMMARY:Memphis Comic Expo 2023
DESCRIPTION:
URL:https://artistsalley.net/events/memphis-comic-expo-2023/
LOCATION:Agricenter International\, Memphis\, TN\, United States
END:VEVENT
BEGIN:VEVENT
DTSTART;VALUE=DATE:20230922
DTEND;VALUE=DATE:20230925
DTSTAMP:20260423T183219
CREATED:20230629T025346Z
LAST-MODIFIED:20230629T031220Z
UID:2594-1695340800-1695599999@artistsalley.net
SUMMARY:Cleveland Gaming Classic 2023
DESCRIPTION:
URL:https://artistsalley.net/events/cleveland-gaming-classic-2023/
LOCATION:I-X Center\, 1 I-X Center Dr\, Cleveland\, Ohio\, 44135\, United States
END:VEVENT
BEGIN:VEVENT
DTSTART;VALUE=DATE:20230922
DTEND;VALUE=DATE:20230925
DTSTAMP:20260423T183219
CREATED:20230629T025344Z
LAST-MODIFIED:20230629T031218Z
UID:2593-1695340800-1695599999@artistsalley.net
SUMMARY:Cincinnati Comic Expo 2023
DESCRIPTION:
URL:https://artistsalley.net/events/cincinnati-comic-expo-2023/
LOCATION:Duke Energy Convention Center\, 525 Elm St\, Cincinnati\, Ohio\, 45202\, United States
END:VEVENT
BEGIN:VEVENT
DTSTART;VALUE=DATE:20230922
DTEND;VALUE=DATE:20230925
DTSTAMP:20260423T183219
CREATED:20230629T025343Z
LAST-MODIFIED:20230629T041407Z
UID:2592-1695340800-1695599999@artistsalley.net
SUMMARY:Anime USA
DESCRIPTION:
URL:https://artistsalley.net/events/anime-usa/
LOCATION:Hyatt Regency Crystal City At Reagan National Airport\, 2799 Richmond Hwy\, Arlington\, Virginia\, 22202\, United States
CATEGORIES:Anime
END:VEVENT
BEGIN:VEVENT
DTSTART;VALUE=DATE:20230921
DTEND;VALUE=DATE:20230924
DTSTAMP:20260423T183219
CREATED:20230629T025342Z
LAST-MODIFIED:20230629T031752Z
UID:2591-1695254400-1695513599@artistsalley.net
SUMMARY:FanX Salt Lake Comic Convention 2023
DESCRIPTION:
URL:https://artistsalley.net/events/fanx-salt-lake-comic-convention-2023/
LOCATION:Salt Palace Convention Center\, Salt Lake City\, UT\, United States
END:VEVENT
BEGIN:VEVENT
DTSTART;VALUE=DATE:20230916
DTEND;VALUE=DATE:20230918
DTSTAMP:20260423T183219
CREATED:20230629T025340Z
LAST-MODIFIED:20230629T032424Z
UID:2590-1694822400-1694995199@artistsalley.net
SUMMARY:SC Horror 2023
DESCRIPTION:
URL:https://artistsalley.net/events/sc-horror-2023/
LOCATION:Columbia Metropolitan Convention Center\, 1101 Lincoln St\, Columbia\, South Carolina\, 29201\, United States
END:VEVENT
BEGIN:VEVENT
DTSTART;VALUE=DATE:20230916
DTEND;VALUE=DATE:20230918
DTSTAMP:20260423T183219
CREATED:20230629T013146Z
LAST-MODIFIED:20230629T031725Z
UID:2298-1694822400-1694995199@artistsalley.net
SUMMARY:Extremicon 2023
DESCRIPTION:
URL:https://artistsalley.net/events/extremicon-2023/
LOCATION:St. Robert Community Center\, St Robert\, MO\, United States
END:VEVENT
BEGIN:VEVENT
DTSTART;VALUE=DATE:20230916
DTEND;VALUE=DATE:20230918
DTSTAMP:20260423T183219
CREATED:20230629T013145Z
LAST-MODIFIED:20230629T031228Z
UID:2297-1694822400-1694995199@artistsalley.net
SUMMARY:Collect-A-Con Charlotte 2023
DESCRIPTION:
URL:https://artistsalley.net/events/collect-a-con-charlotte-2023/
LOCATION:The Park Expo & Conference Center\, Charlotte\, NC\, United States
END:VEVENT
BEGIN:VEVENT
DTSTART;VALUE=DATE:20230916
DTEND;VALUE=DATE:20230917
DTSTAMP:20260423T183219
CREATED:20230629T013148Z
LAST-MODIFIED:20230629T032316Z
UID:2301-1694822400-1694908799@artistsalley.net
SUMMARY:Power Comicon 2023
DESCRIPTION:
URL:https://artistsalley.net/events/power-comicon-2023/
LOCATION:Florence Center\, 3300 W Radio Dr\, Florence\, South Carolina\, 29501\, United States
END:VEVENT
BEGIN:VEVENT
DTSTART;VALUE=DATE:20230915
DTEND;VALUE=DATE:20230918
DTSTAMP:20260423T183219
CREATED:20230629T013144Z
LAST-MODIFIED:20230629T032532Z
UID:2296-1694736000-1694995199@artistsalley.net
SUMMARY:Terror Con 2023
DESCRIPTION:
URL:https://artistsalley.net/events/terror-con-2023/
LOCATION:Royal Plaza Trade Center\, Marlborough\, MA\, United States
END:VEVENT
BEGIN:VEVENT
DTSTART;VALUE=DATE:20230915
DTEND;VALUE=DATE:20230918
DTSTAMP:20260423T183219
CREATED:20230629T013142Z
LAST-MODIFIED:20230629T032055Z
UID:2295-1694736000-1694995199@artistsalley.net
SUMMARY:Megaplex 2023
DESCRIPTION:
URL:https://artistsalley.net/events/megaplex-2023/
LOCATION:Hyatt Regency Orlando\, 9801 International Dr\, Orlando\, Florida\, 32819\, United States
END:VEVENT
BEGIN:VEVENT
DTSTART;VALUE=DATE:20230915
DTEND;VALUE=DATE:20230918
DTSTAMP:20260423T183219
CREATED:20230629T013135Z
LAST-MODIFIED:20230629T031007Z
UID:2294-1694736000-1694995199@artistsalley.net
SUMMARY:Anime Fargo 2023
DESCRIPTION:
URL:https://artistsalley.net/events/anime-fargo-2023/
LOCATION:Ramada by Wyndham Fargo\, Fargo\, ND\, United States
CATEGORIES:Anime
END:VEVENT
BEGIN:VEVENT
DTSTART;VALUE=DATE:20230914
DTEND;VALUE=DATE:20230918
DTSTAMP:20260423T183219
CREATED:20230629T013132Z
LAST-MODIFIED:20230629T031809Z
UID:2292-1694649600-1694995199@artistsalley.net
SUMMARY:Forever Twilight in Forks Festival
DESCRIPTION:
URL:https://artistsalley.net/events/forever-twilight-in-forks-festival/
LOCATION:Various Locations\, Forks\, WA\, United States
CATEGORIES:Fantasy
END:VEVENT
BEGIN:VEVENT
DTSTART;VALUE=DATE:20230909
DTEND;VALUE=DATE:20230910
DTSTAMP:20260423T183219
CREATED:20230629T013131Z
LAST-MODIFIED:20230629T032514Z
UID:2291-1694217600-1694303999@artistsalley.net
SUMMARY:Sy-Con 2023
DESCRIPTION:
URL:https://artistsalley.net/events/sy-con-2023/
LOCATION:Syosset Public Library\, Syossett\, NY\, United States
END:VEVENT
BEGIN:VEVENT
DTSTART;VALUE=DATE:20230908
DTEND;VALUE=DATE:20230911
DTSTAMP:20260423T183219
CREATED:20230629T013129Z
LAST-MODIFIED:20230629T031844Z
UID:2290-1694131200-1694390399@artistsalley.net
SUMMARY:Furvana 2023
DESCRIPTION:
URL:https://artistsalley.net/events/furvana-2023/
LOCATION:Ocean Shores Convention Center\, Ocean Shores\, WA\, United States
CATEGORIES:Furry
END:VEVENT
BEGIN:VEVENT
DTSTART;VALUE=DATE:20230908
DTEND;VALUE=DATE:20230911
DTSTAMP:20260423T183219
CREATED:20230629T013127Z
LAST-MODIFIED:20230629T031830Z
UID:2289-1694131200-1694390399@artistsalley.net
SUMMARY:Furry Migration 2023
DESCRIPTION:
URL:https://artistsalley.net/events/furry-migration-2023/
LOCATION:Hyatt Regency Minneapolis\, 1300 Nicollet Mall\, Minneapolis\, Minnesota\, 55403\, United States
CATEGORIES:Furry
END:VEVENT
BEGIN:VEVENT
DTSTART;VALUE=DATE:20230908
DTEND;VALUE=DATE:20230911
DTSTAMP:20260423T183219
CREATED:20230629T013120Z
LAST-MODIFIED:20230629T031118Z
UID:2288-1694131200-1694390399@artistsalley.net
SUMMARY:Baltimore Comic-Con 2023
DESCRIPTION:
URL:https://artistsalley.net/events/baltimore-comic-con-2023/
LOCATION:Baltimore Convention Center\, Baltimore\, MD\, United States
CATEGORIES:Comic Book
END:VEVENT
BEGIN:VEVENT
DTSTART;VALUE=DATE:20230908
DTEND;VALUE=DATE:20230911
DTSTAMP:20260423T183219
CREATED:20230629T013118Z
LAST-MODIFIED:20230629T031101Z
UID:2287-1694131200-1694390399@artistsalley.net
SUMMARY:Arkansas Comic Con 2023
DESCRIPTION:
URL:https://artistsalley.net/events/arkansas-comic-con-2023/
LOCATION:Statehouse Convention Center\, Little Rock\, AR\, United States
CATEGORIES:Comic Book
END:VEVENT
BEGIN:VEVENT
DTSTART;VALUE=DATE:20230902
DTEND;VALUE=DATE:20230905
DTSTAMP:20260423T183219
CREATED:20230629T013114Z
LAST-MODIFIED:20230629T032058Z
UID:2285-1693612800-1693871999@artistsalley.net
SUMMARY:Memphit Fur Meet 2023
DESCRIPTION:
URL:https://artistsalley.net/events/memphit-fur-meet-2023/
LOCATION:Whispering Woods Hotel and Conference Center\, Olive Branch\, MS\, United States
CATEGORIES:Furry
END:VEVENT
BEGIN:VEVENT
DTSTART;VALUE=DATE:20230902
DTEND;VALUE=DATE:20230904
DTSTAMP:20260423T183219
CREATED:20230629T013116Z
LAST-MODIFIED:20230629T032200Z
UID:2286-1693612800-1693785599@artistsalley.net
SUMMARY:NC Disneyana 2023
DESCRIPTION:
URL:https://artistsalley.net/events/nc-disneyana-2023/
LOCATION:Durham Armory\, 212 Foster St\, Durham\, North Carolina\, 27701\, United States
END:VEVENT
BEGIN:VEVENT
DTSTART;VALUE=DATE:20230902
DTEND;VALUE=DATE:20230904
DTSTAMP:20260423T183219
CREATED:20230629T013112Z
LAST-MODIFIED:20230629T031158Z
UID:2283-1693612800-1693785599@artistsalley.net
SUMMARY:BrickUniverse Nashville 2023
DESCRIPTION:
URL:https://artistsalley.net/events/brickuniverse-nashville-2023/
LOCATION:Farm Bureau Exposition Center\, Lebanon\, TN\, United States
END:VEVENT
BEGIN:VEVENT
DTSTART;VALUE=DATE:20230901
DTEND;VALUE=DATE:20230905
DTSTAMP:20260423T183219
CREATED:20230629T013054Z
LAST-MODIFIED:20230629T032411Z
UID:2280-1693526400-1693871999@artistsalley.net
SUMMARY:Saboten Con 2023
DESCRIPTION:
URL:https://artistsalley.net/events/saboten-con-2023/
LOCATION:Sheraton Downtown Phoenix\, Phoenix\, AZ\, United States
END:VEVENT
BEGIN:VEVENT
DTSTART;VALUE=DATE:20230901
DTEND;VALUE=DATE:20230904
DTSTAMP:20260423T183219
CREATED:20230629T021339Z
LAST-MODIFIED:20230629T021339Z
UID:2439-1693526400-1693785599@artistsalley.net
SUMMARY:No Brand Con
DESCRIPTION:Everything goes at this con! Bring your love of all things fandom and cosplay and you will fit right in!
URL:https://artistsalley.net/events/no-brand-con/
LOCATION:Stevens Point Holiday Inn\, 1001 Amber Ave\, Stevens Point\, WI\, United States
CATEGORIES:Anime,Comic Book,Cosplay,Furry,Gaming,Sci-Fi
END:VEVENT
BEGIN:VEVENT
DTSTART;VALUE=DATE:20230901
DTEND;VALUE=DATE:20230904
DTSTAMP:20260423T183219
CREATED:20230629T013058Z
LAST-MODIFIED:20230629T032526Z
UID:2282-1693526400-1693785599@artistsalley.net
SUMMARY:Tails and Tornadoes Fur Con 2023
DESCRIPTION:
URL:https://artistsalley.net/events/tails-and-tornadoes-fur-con-2023/
LOCATION:Marriott Tulsa Hotel Southern Hills\, 1902 E 71st St\, Tulsa\, Oklahoma\, 74136\, United States
END:VEVENT
END:VCALENDAR