BEGIN:VCALENDAR
VERSION:2.0
PRODID:-//ArtistAlley - ECPv6.15.20//NONSGML v1.0//EN
CALSCALE:GREGORIAN
METHOD:PUBLISH
X-ORIGINAL-URL:https://artistsalley.net
X-WR-CALDESC:Events for ArtistAlley
REFRESH-INTERVAL;VALUE=DURATION:PT1H
X-Robots-Tag:noindex
X-PUBLISHED-TTL:PT1H
BEGIN:VTIMEZONE
TZID:America/Detroit
BEGIN:DAYLIGHT
TZOFFSETFROM:-0500
TZOFFSETTO:-0400
TZNAME:EDT
DTSTART:20220313T070000
END:DAYLIGHT
BEGIN:STANDARD
TZOFFSETFROM:-0400
TZOFFSETTO:-0500
TZNAME:EST
DTSTART:20221106T060000
END:STANDARD
BEGIN:DAYLIGHT
TZOFFSETFROM:-0500
TZOFFSETTO:-0400
TZNAME:EDT
DTSTART:20230312T070000
END:DAYLIGHT
BEGIN:STANDARD
TZOFFSETFROM:-0400
TZOFFSETTO:-0500
TZNAME:EST
DTSTART:20231105T060000
END:STANDARD
BEGIN:DAYLIGHT
TZOFFSETFROM:-0500
TZOFFSETTO:-0400
TZNAME:EDT
DTSTART:20240310T070000
END:DAYLIGHT
BEGIN:STANDARD
TZOFFSETFROM:-0400
TZOFFSETTO:-0500
TZNAME:EST
DTSTART:20241103T060000
END:STANDARD
END:VTIMEZONE
BEGIN:VTIMEZONE
TZID:America/New_York
BEGIN:DAYLIGHT
TZOFFSETFROM:-0500
TZOFFSETTO:-0400
TZNAME:EDT
DTSTART:20220313T070000
END:DAYLIGHT
BEGIN:STANDARD
TZOFFSETFROM:-0400
TZOFFSETTO:-0500
TZNAME:EST
DTSTART:20221106T060000
END:STANDARD
BEGIN:DAYLIGHT
TZOFFSETFROM:-0500
TZOFFSETTO:-0400
TZNAME:EDT
DTSTART:20230312T070000
END:DAYLIGHT
BEGIN:STANDARD
TZOFFSETFROM:-0400
TZOFFSETTO:-0500
TZNAME:EST
DTSTART:20231105T060000
END:STANDARD
BEGIN:DAYLIGHT
TZOFFSETFROM:-0500
TZOFFSETTO:-0400
TZNAME:EDT
DTSTART:20240310T070000
END:DAYLIGHT
BEGIN:STANDARD
TZOFFSETFROM:-0400
TZOFFSETTO:-0500
TZNAME:EST
DTSTART:20241103T060000
END:STANDARD
END:VTIMEZONE
BEGIN:VEVENT
DTSTART;VALUE=DATE:20230803
DTEND;VALUE=DATE:20230807
DTSTAMP:20260424T034654
CREATED:20230629T012758Z
LAST-MODIFIED:20230629T032509Z
UID:2243-1691020800-1691366399@artistsalley.net
SUMMARY:STLV: 57-Year Mission 2023
DESCRIPTION:
URL:https://artistsalley.net/events/stlv-57-year-mission-2023/
LOCATION:Rio All-Suite Hotel & Casino\, Las Vegas\, NV\, United States
END:VEVENT
BEGIN:VEVENT
DTSTART;VALUE=DATE:20230803
DTEND;VALUE=DATE:20230807
DTSTAMP:20260424T034654
CREATED:20230629T012750Z
LAST-MODIFIED:20230629T031909Z
UID:2242-1691020800-1691366399@artistsalley.net
SUMMARY:Gen Con
DESCRIPTION:
URL:https://artistsalley.net/events/gen-con/
LOCATION:Indianapolis Convention Center\, 100 South Capitol Ave\, Indianapolis\, Indiana\, 46225\, United States
CATEGORIES:Gaming (Non-video)
END:VEVENT
BEGIN:VEVENT
DTSTART;VALUE=DATE:20230730
DTEND;VALUE=DATE:20230731
DTSTAMP:20260424T034654
CREATED:20230629T012749Z
LAST-MODIFIED:20230629T032208Z
UID:2241-1690675200-1690761599@artistsalley.net
SUMMARY:NEO Comic Con 2023
DESCRIPTION:
URL:https://artistsalley.net/events/neo-comic-con-2023/
LOCATION:Soccer Sportsplex\, North Olmsted\, OH\, United States
END:VEVENT
BEGIN:VEVENT
DTSTART;VALUE=DATE:20230729
DTEND;VALUE=DATE:20230731
DTSTAMP:20260424T034654
CREATED:20230629T012747Z
LAST-MODIFIED:20230629T032354Z
UID:2240-1690588800-1690761599@artistsalley.net
SUMMARY:Rhode Island Anime Con 2023
DESCRIPTION:
URL:https://artistsalley.net/events/rhode-island-anime-con-2023/
LOCATION:Rhode Island Convention Center\, Providence\, RI\, United States
END:VEVENT
BEGIN:VEVENT
DTSTART;VALUE=DATE:20230728
DTEND;VALUE=DATE:20230801
DTSTAMP:20260424T034654
CREATED:20230629T012728Z
LAST-MODIFIED:20230629T041422Z
UID:2234-1690502400-1690847999@artistsalley.net
SUMMARY:AnimeFest
DESCRIPTION:
URL:https://artistsalley.net/events/animefest/
LOCATION:Sheraton Dallas Hotel\, Dallas\, TX\, United States
CATEGORIES:Anime
END:VEVENT
BEGIN:VEVENT
DTSTART;VALUE=DATE:20230728
DTEND;VALUE=DATE:20230731
DTSTAMP:20260424T034654
CREATED:20230629T031718Z
LAST-MODIFIED:20230629T031718Z
UID:2683-1690502400-1690761599@artistsalley.net
SUMMARY:Dream Con
DESCRIPTION:
URL:https://artistsalley.net/events/dream-con/
LOCATION:Austin Convention Center\, Austin\, TX\, United States
CATEGORIES:Anime,Comic Book,Gaming,Gaming (Non-video)
END:VEVENT
BEGIN:VEVENT
DTSTART;VALUE=DATE:20230728
DTEND;VALUE=DATE:20230731
DTSTAMP:20260424T034654
CREATED:20230629T012746Z
LAST-MODIFIED:20230629T032528Z
UID:2239-1690502400-1690761599@artistsalley.net
SUMMARY:Tampa Bay Comic Convention 2023
DESCRIPTION:
URL:https://artistsalley.net/events/tampa-bay-comic-convention-2023/
LOCATION:Tampa Convention Center\, Tampa\, FL\, United States
END:VEVENT
BEGIN:VEVENT
DTSTART;VALUE=DATE:20230728
DTEND;VALUE=DATE:20230731
DTSTAMP:20260424T034654
CREATED:20230629T012743Z
LAST-MODIFIED:20230629T032457Z
UID:2238-1690502400-1690761599@artistsalley.net
SUMMARY:Southern-Fried Gaming Expo 2023
DESCRIPTION:
URL:https://artistsalley.net/events/southern-fried-gaming-expo-2023/
LOCATION:Renaissance Atlanta Waverly Hotel & Convention Center\, Atlanta\, GA\, United States
END:VEVENT
BEGIN:VEVENT
DTSTART;VALUE=DATE:20230728
DTEND;VALUE=DATE:20230731
DTSTAMP:20260424T034654
CREATED:20230629T012733Z
LAST-MODIFIED:20230629T032236Z
UID:2237-1690502400-1690761599@artistsalley.net
SUMMARY:Otakon 2023
DESCRIPTION:
URL:https://artistsalley.net/events/otakon-2023/
LOCATION:Walter E. Washington Convention Center\, Washington\, DC\, United States
END:VEVENT
BEGIN:VEVENT
DTSTART;VALUE=DATE:20230728
DTEND;VALUE=DATE:20230731
DTSTAMP:20260424T034654
CREATED:20230629T012731Z
LAST-MODIFIED:20230629T031704Z
UID:2236-1690502400-1690761599@artistsalley.net
SUMMARY:Dokidokon 2023
DESCRIPTION:
URL:https://artistsalley.net/events/dokidokon-2023/
LOCATION:Radisson Plaza Hotel at Kalamazoo Center\, Kalamazoo\, MI\, United States
END:VEVENT
BEGIN:VEVENT
DTSTART;VALUE=DATE:20230728
DTEND;VALUE=DATE:20230731
DTSTAMP:20260424T034654
CREATED:20230629T012729Z
LAST-MODIFIED:20230629T041447Z
UID:2235-1690502400-1690761599@artistsalley.net
SUMMARY:AnimeIowa
DESCRIPTION:
URL:https://artistsalley.net/events/animeiowa/
LOCATION:Hyatt Regency Coralville Hotel & Conference Center\, 300 E 9th St\, Coralville\, Iowa\, 52241\, United States
CATEGORIES:Anime
END:VEVENT
BEGIN:VEVENT
DTSTART;VALUE=DATE:20230722
DTEND;VALUE=DATE:20230731
DTSTAMP:20260424T034654
CREATED:20230629T012725Z
LAST-MODIFIED:20230629T033115Z
UID:2233-1689984000-1690761599@artistsalley.net
SUMMARY:World Boardgaming Championships
DESCRIPTION:
URL:https://artistsalley.net/events/world-boardgaming-championships/
LOCATION:Seven Springs Mountain Resort\, Champion\, PA\, United States
CATEGORIES:Gaming (Non-video)
END:VEVENT
BEGIN:VEVENT
DTSTART;VALUE=DATE:20230721
DTEND;VALUE=DATE:20230724
DTSTAMP:20260424T034654
CREATED:20230629T012706Z
LAST-MODIFIED:20230629T032010Z
UID:2232-1689897600-1690156799@artistsalley.net
SUMMARY:Kansas Furcon 2023
DESCRIPTION:
URL:https://artistsalley.net/events/kansas-furcon-2023/
LOCATION:Great Bend Events Center\, 3111 10th St\, Great Bend\, Kansas\, 67530\, United States
END:VEVENT
BEGIN:VEVENT
DTSTART;VALUE=DATE:20230721
DTEND;VALUE=DATE:20230724
DTSTAMP:20260424T034654
CREATED:20230629T012704Z
LAST-MODIFIED:20230629T031943Z
UID:2231-1689897600-1690156799@artistsalley.net
SUMMARY:Idaho Halloween & Horror Convention
DESCRIPTION:
URL:https://artistsalley.net/events/idaho-halloween-horror-convention/
LOCATION:Expo Idaho\, 5610 N Glenwood St\,\, Garden City\, Idaho\, 83714\, United States
CATEGORIES:Costume
END:VEVENT
BEGIN:VEVENT
DTSTART;VALUE=DATE:20230721
DTEND;VALUE=DATE:20230724
DTSTAMP:20260424T034654
CREATED:20230629T012703Z
LAST-MODIFIED:20230629T031304Z
UID:2230-1689897600-1690156799@artistsalley.net
SUMMARY:Confluence
DESCRIPTION:
URL:https://artistsalley.net/events/confluence/
LOCATION:Sheraton Pittsburgh Airport Hotel\, Pittsburgh\, PA\, United States
END:VEVENT
BEGIN:VEVENT
DTSTART;VALUE=DATE:20230721
DTEND;VALUE=DATE:20230723
DTSTAMP:20260424T034654
CREATED:20230629T012701Z
LAST-MODIFIED:20230629T031044Z
UID:2229-1689897600-1690070399@artistsalley.net
SUMMARY:Animetro Charlotte
DESCRIPTION:
URL:https://artistsalley.net/events/animetro-charlotte/
LOCATION:Embassy Suites by Hilton Charlotte Concord Golf Resort & Spa\, 5400 John Q. Hammons Dr NW\, Concord\, North Carolina\, 28027\, United States
CATEGORIES:Anime
END:VEVENT
BEGIN:VEVENT
DTSTART;VALUE=DATE:20230720
DTEND;VALUE=DATE:20230724
DTSTAMP:20260424T034654
CREATED:20230629T031306Z
LAST-MODIFIED:20230629T045433Z
UID:2672-1689811200-1690156799@artistsalley.net
SUMMARY:ConnectiCon
DESCRIPTION:ConnectiCon is a multi-fandom convention for fans of pop culture – animation\, cosplay\, video games\, comic books\, TV & movies\, science fiction & fact\, fantasy\, dystopian literature\, tabletop games\, web content creators\, and more! \nUtilizing over half a million square feet of event space at the Hartford Marriott Downtown\, the Connecticut Convention Center\, and other downtown Hartford venues featuring nearly 300 artists\, crafters\, makers\, vendors and exhibitors\, while also providing thousands of hours of interactive programming over packed into four days\, offering our members a unique and memorable experience\, year after year. There are so many reasons why ConnectiCon is the largest\, longest running\, most diverse and inclusive fandom event in New England each summer!
URL:https://artistsalley.net/events/connecticon/
LOCATION:Connecticut Convention Center / Hartford Marriott Downtown\, 200 Columbus Blvd\, Hartford\, Connetticut\, 06103\, United States
CATEGORIES:Anime,Comic Book,Fantasy,Furry,Gaming,Gaming (Non-video),Sci-Fi,TV (non-anime/Sci-fi)
ATTACH;FMTTYPE=image/jpeg:https://artistsalley.net/wp-content/uploads/2023/06/connecticon.jpg
END:VEVENT
BEGIN:VEVENT
DTSTART;VALUE=DATE:20230720
DTEND;VALUE=DATE:20230724
DTSTAMP:20260424T034654
CREATED:20230629T012659Z
LAST-MODIFIED:20230629T032530Z
UID:2228-1689811200-1690156799@artistsalley.net
SUMMARY:Tekko
DESCRIPTION:
URL:https://artistsalley.net/events/tekko/
LOCATION:David L. Lawrence Convention Center\, 1000 Fort Duquesne Blvd\, Pittsburgh\, Pensylvania\, 15222\, United States
END:VEVENT
BEGIN:VEVENT
DTSTART;VALUE=DATE:20230720
DTEND;VALUE=DATE:20230724
DTSTAMP:20260424T034654
CREATED:20230629T012656Z
LAST-MODIFIED:20230629T031257Z
UID:2227-1689811200-1690156799@artistsalley.net
SUMMARY:Comic-Con International: San Diego
DESCRIPTION:
URL:https://artistsalley.net/events/comic-con-international-san-diego/
LOCATION:San Diego Convention Center\, San Diego\, CA\, United States
CATEGORIES:Comic Book
END:VEVENT
BEGIN:VEVENT
DTSTART;VALUE=DATE:20230715
DTEND;VALUE=DATE:20230717
DTSTAMP:20260424T034654
CREATED:20230629T012651Z
LAST-MODIFIED:20230629T031242Z
UID:2224-1689379200-1689551999@artistsalley.net
SUMMARY:Collect-A-Con Kansas City
DESCRIPTION:
URL:https://artistsalley.net/events/collect-a-con-kansas-city/
LOCATION:Kansas City Convention Center\, 301 W 13th St #100\, Kansas CIty\, Missouri\, 64105\, United States
END:VEVENT
BEGIN:VEVENT
DTSTART;VALUE=DATE:20230715
DTEND;VALUE=DATE:20230716
DTSTAMP:20260424T034654
CREATED:20230629T012655Z
LAST-MODIFIED:20230629T032029Z
UID:2226-1689379200-1689465599@artistsalley.net
SUMMARY:Longview Comic Con
DESCRIPTION:
URL:https://artistsalley.net/events/longview-comic-con/
LOCATION:Maude Cobb Convention & Activity Center\, 100 Grand Blvd\, Longview\, Texas\, 75604\, United States
END:VEVENT
BEGIN:VEVENT
DTSTART;VALUE=DATE:20230715
DTEND;VALUE=DATE:20230716
DTSTAMP:20260424T034654
CREATED:20230629T012652Z
LAST-MODIFIED:20230629T031825Z
UID:2225-1689379200-1689465599@artistsalley.net
SUMMARY:FrankfortCon Summer
DESCRIPTION:
URL:https://artistsalley.net/events/frankfortcon-summer/
LOCATION:Capital Plaza Hotel\, Frankfort\, KY\, United States
CATEGORIES:Anime,Comic Book
END:VEVENT
BEGIN:VEVENT
DTSTART;VALUE=DATE:20230714
DTEND;VALUE=DATE:20230717
DTSTAMP:20260424T034654
CREATED:20230629T021244Z
LAST-MODIFIED:20230629T024253Z
UID:2417-1689292800-1689551999@artistsalley.net
SUMMARY:AkaiCon
DESCRIPTION:Come dress in your favorite costume (Cosplay) and enjoy a weekend of fun and excitement at our 78\,000 square-foot event space! (Costume not required but it enhances the fun!)
URL:https://artistsalley.net/events/akaicon/
LOCATION:Farm Bureau Exposition Center\, Lebanon\, TN\, United States
CATEGORIES:Anime
END:VEVENT
BEGIN:VEVENT
DTSTART;VALUE=DATE:20230714
DTEND;VALUE=DATE:20230717
DTSTAMP:20260424T034654
CREATED:20230629T012642Z
LAST-MODIFIED:20230629T031045Z
UID:2222-1689292800-1689551999@artistsalley.net
SUMMARY:Anthro Weekend Utah
DESCRIPTION:
URL:https://artistsalley.net/events/anthro-weekend-utah/
LOCATION:Davis Conference Center\, 1651 N 700 W\, Layton\, Utah\, 84041\, United States
CATEGORIES:Furry
END:VEVENT
BEGIN:VEVENT
DTSTART;VALUE=DATE:20230714
DTEND;VALUE=DATE:20230716
DTSTAMP:20260424T034654
CREATED:20230629T012650Z
LAST-MODIFIED:20230629T032508Z
UID:2223-1689292800-1689465599@artistsalley.net
SUMMARY:Springfield Comic Con
DESCRIPTION:
URL:https://artistsalley.net/events/springfield-comic-con/
LOCATION:MassMutual Center\, 1277 Main St\, Springfield\, Massachusetts\, 01103\, United States
CATEGORIES:Comic Book
END:VEVENT
BEGIN:VEVENT
DTSTART;VALUE=DATE:20230713
DTEND;VALUE=DATE:20230717
DTSTAMP:20260424T034654
CREATED:20230629T012641Z
LAST-MODIFIED:20230629T032337Z
UID:2221-1689206400-1689551999@artistsalley.net
SUMMARY:Readercon 2023
DESCRIPTION:
URL:https://artistsalley.net/events/readercon-2023/
LOCATION:Boston Marriott Quincy\, Quincy\, MA\, United States
END:VEVENT
BEGIN:VEVENT
DTSTART;VALUE=DATE:20230710
DTEND;VALUE=DATE:20230712
DTSTAMP:20260424T034654
CREATED:20230629T012639Z
LAST-MODIFIED:20230629T032437Z
UID:2220-1688947200-1689119999@artistsalley.net
SUMMARY:Small Press & Alternative Comics Expo
DESCRIPTION:
URL:https://artistsalley.net/events/small-press-alternative-comics-expo/
LOCATION:Oklahoma City
CATEGORIES:Comic Book
END:VEVENT
BEGIN:VEVENT
DTSTART;VALUE=DATE:20230710
DTEND;VALUE=DATE:20230712
DTSTAMP:20260424T034654
CREATED:20230629T012637Z
LAST-MODIFIED:20230629T032026Z
UID:2219-1688947200-1689119999@artistsalley.net
SUMMARY:Lilac City Comicon 2023
DESCRIPTION:
URL:https://artistsalley.net/events/lilac-city-comicon-2023/
LOCATION:Oklahoma City
END:VEVENT
BEGIN:VEVENT
DTSTART;VALUE=DATE:20230710
DTEND;VALUE=DATE:20230712
DTSTAMP:20260424T034654
CREATED:20230629T012635Z
LAST-MODIFIED:20230629T031954Z
UID:2218-1688947200-1689119999@artistsalley.net
SUMMARY:Incredible Con 2023
DESCRIPTION:
URL:https://artistsalley.net/events/incredible-con-2023/
LOCATION:Oklahoma City
END:VEVENT
BEGIN:VEVENT
DTSTART;VALUE=DATE:20230708
DTEND;VALUE=DATE:20230710
DTSTAMP:20260424T034654
CREATED:20230629T012524Z
LAST-MODIFIED:20230709T000349Z
UID:2217-1688774400-1688947199@artistsalley.net
SUMMARY:Contropolis New Jersey 2023
DESCRIPTION:
URL:https://artistsalley.net/events/contropolis-new-jersey-2023/
LOCATION:Meadowlands Exposition Center\, 355 Plaza Dr\, Seacaucus\, New Jersey\, 07094\, United States
END:VEVENT
END:VCALENDAR