BEGIN:VCALENDAR
VERSION:2.0
PRODID:-//ArtistAlley - ECPv6.15.20//NONSGML v1.0//EN
CALSCALE:GREGORIAN
METHOD:PUBLISH
X-WR-CALNAME:ArtistAlley
X-ORIGINAL-URL:https://artistsalley.net
X-WR-CALDESC:Events for ArtistAlley
REFRESH-INTERVAL;VALUE=DURATION:PT1H
X-Robots-Tag:noindex
X-PUBLISHED-TTL:PT1H
BEGIN:VTIMEZONE
TZID:America/Detroit
BEGIN:DAYLIGHT
TZOFFSETFROM:-0500
TZOFFSETTO:-0400
TZNAME:EDT
DTSTART:20220313T070000
END:DAYLIGHT
BEGIN:STANDARD
TZOFFSETFROM:-0400
TZOFFSETTO:-0500
TZNAME:EST
DTSTART:20221106T060000
END:STANDARD
BEGIN:DAYLIGHT
TZOFFSETFROM:-0500
TZOFFSETTO:-0400
TZNAME:EDT
DTSTART:20230312T070000
END:DAYLIGHT
BEGIN:STANDARD
TZOFFSETFROM:-0400
TZOFFSETTO:-0500
TZNAME:EST
DTSTART:20231105T060000
END:STANDARD
BEGIN:DAYLIGHT
TZOFFSETFROM:-0500
TZOFFSETTO:-0400
TZNAME:EDT
DTSTART:20240310T070000
END:DAYLIGHT
BEGIN:STANDARD
TZOFFSETFROM:-0400
TZOFFSETTO:-0500
TZNAME:EST
DTSTART:20241103T060000
END:STANDARD
BEGIN:DAYLIGHT
TZOFFSETFROM:-0500
TZOFFSETTO:-0400
TZNAME:EDT
DTSTART:20250309T070000
END:DAYLIGHT
BEGIN:STANDARD
TZOFFSETFROM:-0400
TZOFFSETTO:-0500
TZNAME:EST
DTSTART:20251102T060000
END:STANDARD
END:VTIMEZONE
BEGIN:VEVENT
DTSTART;VALUE=DATE:20240523
DTEND;VALUE=DATE:20240527
DTSTAMP:20260423T121936
CREATED:20230629T031632Z
LAST-MODIFIED:20230629T045552Z
UID:2676-1716422400-1716767999@artistsalley.net
SUMMARY:CoreCon
DESCRIPTION:CoreCon is a science fiction\, fantasy\, horror and anime convention in Fargo-Moorhead. Meet other fans and enthusiasts in our area and discover what’s new in your genres of interest.
URL:https://artistsalley.net/events/corecon-2/
LOCATION:Holiday Inn Fargo\, 3803 13th Ave S\, Fargo\, North Dakota\, 58103\, United States
CATEGORIES:Anime,Fantasy,Sci-Fi
ATTACH;FMTTYPE=image/webp:https://artistsalley.net/wp-content/uploads/2023/06/corecon.webp
END:VEVENT
BEGIN:VEVENT
DTSTART;VALUE=DATE:20240412
DTEND;VALUE=DATE:20240415
DTSTAMP:20260423T121936
CREATED:20230629T021406Z
LAST-MODIFIED:20230629T045553Z
UID:2445-1712880000-1713139199@artistsalley.net
SUMMARY:Steel City Con
DESCRIPTION:The Steel City Con is the exclusive comic con of the Monroeville Convention Center. It is one of the largest comic cons in the United States with over 100\,000 square feet of convention space and filled with over 600 vendor and artist tables\, and celebrity guests. At the Steel City Con you can meet TV and film celebrities along with experience celebrity Q & Aƒ??s\, panels\, celebrity photo ops\, and the Artist Charity Quick Sketch. You can also take part in the Steel City Conƒ??s cosplay\, trivia contest and costume contests!
URL:https://artistsalley.net/events/steel-city-con-2/
LOCATION:Essex Junction
CATEGORIES:Anime,Comic Book,Fantasy,Gaming,Sci-Fi
END:VEVENT
BEGIN:VEVENT
DTSTART;VALUE=DATE:20231208
DTEND;VALUE=DATE:20231211
DTSTAMP:20260423T121936
CREATED:20230629T031009Z
LAST-MODIFIED:20230710T022321Z
UID:2636-1701993600-1702252799@artistsalley.net
SUMMARY:Anime Frontier 2023
DESCRIPTION:Anime Frontier Powered By Crunchyroll is three days of exciting anime exhibits\, exclusive premieres\, and show-stopping special events featuring some of the biggest guests in anime and manga as well as leading publishers in rare appearances in Texas!
URL:https://artistsalley.net/events/anime-frontier-2023/
LOCATION:Fort Worth Convention Center\, 1201 Houston St\, Fort Worth\, Texas\, 76102\, United States
CATEGORIES:Anime
ATTACH;FMTTYPE=image/png:https://artistsalley.net/wp-content/uploads/2023/06/Anime-Frontier-2023.png
END:VEVENT
BEGIN:VEVENT
DTSTART;VALUE=DATE:20231208
DTEND;VALUE=DATE:20231211
DTSTAMP:20260423T121936
CREATED:20230629T021334Z
LAST-MODIFIED:20230629T021334Z
UID:2436-1701993600-1702252799@artistsalley.net
SUMMARY:Supernatural Official Convention Nashville
DESCRIPTION:Rev up your Supernatural engines! We look forward to celebrating the beloved show with headliners Jensen Ackles\, Jared Padalecki and Misha Collins and other amazing guests\, as we give our SPN family a memorable experience.
URL:https://artistsalley.net/events/supernatural-official-convention-nashville/
LOCATION:Grand Hyatt Nashville\, 1000 Broadway\, Nashville\, TN\, United States
CATEGORIES:TV (non-anime/Sci-fi)
END:VEVENT
BEGIN:VEVENT
DTSTART;VALUE=DATE:20231203
DTEND;VALUE=DATE:20231204
DTSTAMP:20260423T121936
CREATED:20230629T031207Z
LAST-MODIFIED:20230629T031207Z
UID:2660-1701561600-1701647999@artistsalley.net
SUMMARY:Canton-Akron Comic Book\, Toy & Nostalgia Convention
DESCRIPTION:
URL:https://artistsalley.net/events/canton-akron-comic-book-toy-nostalgia-convention/
LOCATION:St George Social Center\, North Canton\, OH\, United States
CATEGORIES:Comic Book
END:VEVENT
BEGIN:VEVENT
DTSTART;VALUE=DATE:20231201
DTEND;VALUE=DATE:20231204
DTSTAMP:20260423T121936
CREATED:20230629T031846Z
LAST-MODIFIED:20230629T031846Z
UID:2697-1701388800-1701647999@artistsalley.net
SUMMARY:GalaxyCon Columbus 2023
DESCRIPTION:
URL:https://artistsalley.net/events/galaxycon-columbus-2023/
LOCATION:Greater Columbus Convention Center\, 400 N High St\, Columbus\, Ohio\, 43215\, United States
END:VEVENT
BEGIN:VEVENT
DTSTART;VALUE=DATE:20231119
DTEND;VALUE=DATE:20231120
DTSTAMP:20260423T121936
CREATED:20230629T031203Z
LAST-MODIFIED:20230629T031203Z
UID:2659-1700352000-1700438399@artistsalley.net
SUMMARY:Buckeye Comic Con
DESCRIPTION:
URL:https://artistsalley.net/events/buckeye-comic-con/
LOCATION:Courtyard by Marriott Columbus West/Hilliard\, 2350 Westbelt Dr\, Columbus\, Ohio\, 43228\, United States
CATEGORIES:Comic Book
END:VEVENT
BEGIN:VEVENT
DTSTART;VALUE=DATE:20231117
DTEND;VALUE=DATE:20231120
DTSTAMP:20260423T121936
CREATED:20230629T031016Z
LAST-MODIFIED:20230629T041228Z
UID:2639-1700179200-1700438399@artistsalley.net
SUMMARY:Anime NYC
DESCRIPTION:
URL:https://artistsalley.net/events/anime-nyc/
LOCATION:Jacob K. Javits Convention Center\, 655 W 34th St\, Manhattan\, New York\, 10014\, United States
CATEGORIES:Anime
END:VEVENT
BEGIN:VEVENT
DTSTART;VALUE=DATE:20231111
DTEND;VALUE=DATE:20231113
DTSTAMP:20260423T121936
CREATED:20230629T033059Z
LAST-MODIFIED:20230629T033059Z
UID:2773-1699660800-1699833599@artistsalley.net
SUMMARY:Vermont Steampunk Expo 2023
DESCRIPTION:
URL:https://artistsalley.net/events/vermont-steampunk-expo-2023/
LOCATION:Champlain Valley Exposition\, Essex Junction\, VT\, United States
END:VEVENT
BEGIN:VEVENT
DTSTART;VALUE=DATE:20231111
DTEND;VALUE=DATE:20231113
DTSTAMP:20260423T121936
CREATED:20230629T032233Z
LAST-MODIFIED:20230629T032233Z
UID:2733-1699660800-1699833599@artistsalley.net
SUMMARY:One-Con 2023
DESCRIPTION:
URL:https://artistsalley.net/events/one-con-2023/
LOCATION:Wyndham Lancaster Resort and Convention Center\, Lancaster\, PA\, United States
END:VEVENT
BEGIN:VEVENT
DTSTART;VALUE=DATE:20231111
DTEND;VALUE=DATE:20231113
DTSTAMP:20260423T121936
CREATED:20230629T031636Z
LAST-MODIFIED:20230629T031636Z
UID:2677-1699660800-1699833599@artistsalley.net
SUMMARY:CosFaire Orlando
DESCRIPTION:
URL:https://artistsalley.net/events/cosfaire-orlando/
LOCATION:Central Florida Fairgrounds\, Orlando\, FL\, United States
END:VEVENT
BEGIN:VEVENT
DTSTART;VALUE=DATE:20231111
DTEND;VALUE=DATE:20231112
DTSTAMP:20260423T121936
CREATED:20230629T032011Z
LAST-MODIFIED:20230629T032011Z
UID:2711-1699660800-1699747199@artistsalley.net
SUMMARY:Kids Con New England (Maine) 2023
DESCRIPTION:
URL:https://artistsalley.net/events/kids-con-new-england-maine-2023/
LOCATION:DoubleTree by Hilton Hotel Portland\, ME\, 363 Maine Mall Rd\, South Portland\, Maine\, 04106\, United States
END:VEVENT
BEGIN:VEVENT
DTSTART;VALUE=DATE:20231110
DTEND;VALUE=DATE:20231113
DTSTAMP:20260423T121936
CREATED:20230629T031012Z
LAST-MODIFIED:20230629T031012Z
UID:2637-1699574400-1699833599@artistsalley.net
SUMMARY:Anime Iwai 2023
DESCRIPTION:
URL:https://artistsalley.net/events/anime-iwai-2023/
LOCATION:Fort Lauderdale Marriott Coral Springs Hotel & Convention Center\, 11775 Heron Bay Blvd\, Coral Springs\, Florida\, 33076\, United States
CATEGORIES:Anime
END:VEVENT
BEGIN:VEVENT
DTSTART;VALUE=DATE:20231110
DTEND;VALUE=DATE:20231113
DTSTAMP:20260423T121936
CREATED:20230629T021305Z
LAST-MODIFIED:20230629T021305Z
UID:2426-1699574400-1699833599@artistsalley.net
SUMMARY:OmegaCon
DESCRIPTION:Coming Soon
URL:https://artistsalley.net/events/omegacon/
LOCATION:The Lodge at Crooked Lake\, Siren\, WI\, United States
CATEGORIES:Fantasy,Sci-Fi
END:VEVENT
BEGIN:VEVENT
DTSTART;VALUE=DATE:20231104
DTEND;VALUE=DATE:20231106
DTSTAMP:20260423T121936
CREATED:20230629T025541Z
LAST-MODIFIED:20230629T033047Z
UID:2629-1699056000-1699228799@artistsalley.net
SUMMARY:TriCityComicCon 2023 Postponed
DESCRIPTION:
URL:https://artistsalley.net/events/tricitycomiccon-2023-postponed/
LOCATION:Polk County Commerce Center\, Livingston\, TX\, United States
END:VEVENT
BEGIN:VEVENT
DTSTART;VALUE=DATE:20231104
DTEND;VALUE=DATE:20231106
DTSTAMP:20260423T121936
CREATED:20230629T025539Z
LAST-MODIFIED:20230629T031721Z
UID:2628-1699056000-1699228799@artistsalley.net
SUMMARY:Effing-Con 2023
DESCRIPTION:
URL:https://artistsalley.net/events/effing-con-2023/
LOCATION:Village Square Mall\, Effingham\, IL\, United States
END:VEVENT
BEGIN:VEVENT
DTSTART;VALUE=DATE:20231104
DTEND;VALUE=DATE:20231106
DTSTAMP:20260423T121936
CREATED:20230629T025538Z
LAST-MODIFIED:20230629T031233Z
UID:2627-1699056000-1699228799@artistsalley.net
SUMMARY:Collect-A-Con Houston 2023
DESCRIPTION:
URL:https://artistsalley.net/events/collect-a-con-houston-2023/
LOCATION:George R. Brown Convention Center\, 1001 Avenida De Las Americas\, Houston\, Texas\, 77010\, United States
END:VEVENT
BEGIN:VEVENT
DTSTART;VALUE=DATE:20231104
DTEND;VALUE=DATE:20231106
DTSTAMP:20260423T121936
CREATED:20230629T025536Z
LAST-MODIFIED:20230629T041241Z
UID:2626-1699056000-1699228799@artistsalley.net
SUMMARY:Anime Pasadena
DESCRIPTION:
URL:https://artistsalley.net/events/anime-pasadena/
LOCATION:Pasadena Convention Center\, Pasadena\, CA\, United States
CATEGORIES:Anime
END:VEVENT
BEGIN:VEVENT
DTSTART;VALUE=DATE:20231104
DTEND;VALUE=DATE:20231106
DTSTAMP:20260423T121936
CREATED:20230629T021316Z
LAST-MODIFIED:20230629T021316Z
UID:2430-1699056000-1699228799@artistsalley.net
SUMMARY:Akron Comicon
DESCRIPTION:Founded in 2012 by Bob Jenkins and Michael Savene\, the Akron Comicon is an annual event created to celebrate newspaper comics and comic books as an original American art form\, and to promote comics as a viable entertainment medium by bringing creators\, dealers and fans together for a weekend of fun and interaction designed for the entire family.
URL:https://artistsalley.net/events/akron-comicon/
LOCATION:Emidio’s Expo Center\, 48 E. Bath Rd.\, Cuyahoga Falls\, OH\, United States
CATEGORIES:Comic Book
END:VEVENT
BEGIN:VEVENT
DTSTART;VALUE=DATE:20231103
DTEND;VALUE=DATE:20231106
DTSTAMP:20260423T121936
CREATED:20230629T025535Z
LAST-MODIFIED:20230629T032358Z
UID:2625-1698969600-1699228799@artistsalley.net
SUMMARY:Rock-Con 2023
DESCRIPTION:
URL:https://artistsalley.net/events/rock-con-2023/
LOCATION:Tebala Event Center\, Rockford\, IL\, United States
END:VEVENT
BEGIN:VEVENT
DTSTART;VALUE=DATE:20231103
DTEND;VALUE=DATE:20231106
DTSTAMP:20260423T121936
CREATED:20230629T025526Z
LAST-MODIFIED:20230629T032355Z
UID:2624-1698969600-1699228799@artistsalley.net
SUMMARY:Rhode Island Comic Con 2023
DESCRIPTION:
URL:https://artistsalley.net/events/rhode-island-comic-con-2023/
LOCATION:Rhode Island Convention Center\, Providence\, RI\, United States
END:VEVENT
BEGIN:VEVENT
DTSTART;VALUE=DATE:20231103
DTEND;VALUE=DATE:20231106
DTSTAMP:20260423T121936
CREATED:20230629T025524Z
LAST-MODIFIED:20230629T032256Z
UID:2623-1698969600-1699228799@artistsalley.net
SUMMARY:PAWCon 2023
DESCRIPTION:
URL:https://artistsalley.net/events/pawcon-2023/
LOCATION:DoubleTree by Hilton Hotel San Jose\, 2050 Gateway Pl\, San Jose\, California\, 95110\, United States
END:VEVENT
BEGIN:VEVENT
DTSTART;VALUE=DATE:20231103
DTEND;VALUE=DATE:20231106
DTSTAMP:20260423T121936
CREATED:20230629T025523Z
LAST-MODIFIED:20230629T031259Z
UID:2622-1698969600-1699228799@artistsalley.net
SUMMARY:Con Nichiwa 2023
DESCRIPTION:
URL:https://artistsalley.net/events/con-nichiwa-2023/
LOCATION:DoubleTree by Hilton Hotel Tucson – Reid Park\, 445 S Alvernon Way\, Tucson\, Arizona\, 85711\, United States
CATEGORIES:Anime
END:VEVENT
BEGIN:VEVENT
DTSTART;VALUE=DATE:20231102
DTEND;VALUE=DATE:20231106
DTSTAMP:20260423T121936
CREATED:20230629T021414Z
LAST-MODIFIED:20230629T021414Z
UID:2448-1698883200-1699228799@artistsalley.net
SUMMARY:Youmacon
DESCRIPTION:Youmacon is a celebration of Japanese animation\, videogames\, popular culture and costuming\, and its influence on our own culture over the past few decades. Common themes throughout the event are Anime (Japanese animation)\, video games\, Japanese-style artwork and comics\, and the rising Internet culture influenced by all of the above. Youmacon brings a unique all-ages mix of interactive games\, celebrity guest panels and live musical performances to downtown Detroit.
URL:https://artistsalley.net/events/youmacon/
LOCATION:Huntington Place / Detroit Marriott at the Renaissance Center\, 1 Washington Blvd\, Detroit\, MI\, United States
CATEGORIES:Anime,Comic Book,Furry,Sci-Fi,TV (non-anime/Sci-fi)
END:VEVENT
BEGIN:VEVENT
DTSTART;VALUE=DATE:20231030
DTEND;VALUE=DATE:20231103
DTSTAMP:20260423T121936
CREATED:20230629T025521Z
LAST-MODIFIED:20230629T031131Z
UID:2621-1698624000-1698969599@artistsalley.net
SUMMARY:Biggest Little Fur Con 2023
DESCRIPTION:
URL:https://artistsalley.net/events/biggest-little-fur-con-2023/
LOCATION:Grand Sierra Resort and Casino\, 2500 E 2nd St\, Reno\, Nevada\, 89595\, United States
CATEGORIES:Furry
END:VEVENT
BEGIN:VEVENT
DTSTART;VALUE=DATE:20231028
DTEND;VALUE=DATE:20231030
DTSTAMP:20260423T121936
CREATED:20230629T025520Z
LAST-MODIFIED:20230629T032343Z
UID:2620-1698451200-1698623999@artistsalley.net
SUMMARY:Retropalooza 2023
DESCRIPTION:
URL:https://artistsalley.net/events/retropalooza-2023/
LOCATION:Esports Stadium Arlington & Expo Center\, 1200 Ballpark Way\, Alrington\, Texas\, 76011\, United States
END:VEVENT
BEGIN:VEVENT
DTSTART;VALUE=DATE:20231028
DTEND;VALUE=DATE:20231029
DTSTAMP:20260423T121936
CREATED:20230629T025511Z
LAST-MODIFIED:20230629T032027Z
UID:2619-1698451200-1698537599@artistsalley.net
SUMMARY:Long Island Comic Fest 2023
DESCRIPTION:
URL:https://artistsalley.net/events/long-island-comic-fest-2023/
LOCATION:VFW Hall – Post 3211\, Hicksville\, NY\, United States
END:VEVENT
BEGIN:VEVENT
DTSTART;VALUE=DATE:20231027
DTEND;VALUE=DATE:20231030
DTSTAMP:20260423T121936
CREATED:20230629T025509Z
LAST-MODIFIED:20230629T032459Z
UID:2618-1698364800-1698623999@artistsalley.net
SUMMARY:Spooky Empire 2023
DESCRIPTION:
URL:https://artistsalley.net/events/spooky-empire-2023/
LOCATION:Hyatt Regency Orlando\, 9801 International Dr\, Orlando\, Florida\, 32819\, United States
END:VEVENT
BEGIN:VEVENT
DTSTART;VALUE=DATE:20231027
DTEND;VALUE=DATE:20231030
DTSTAMP:20260423T121936
CREATED:20230629T025508Z
LAST-MODIFIED:20230629T031658Z
UID:2617-1698364800-1698623999@artistsalley.net
SUMMARY:DerpyCon 2023
DESCRIPTION:
URL:https://artistsalley.net/events/derpycon-2023/
LOCATION:Hyatt Regency New Brunswick\, 2 Albany St\, New Brunswick\, New Jersey\, 08901\, United States
END:VEVENT
BEGIN:VEVENT
DTSTART;VALUE=DATE:20231027
DTEND;VALUE=DATE:20231030
DTSTAMP:20260423T121936
CREATED:20230629T025507Z
LAST-MODIFIED:20230629T031059Z
UID:2616-1698364800-1698623999@artistsalley.net
SUMMARY:AquatiFur 2023
DESCRIPTION:
URL:https://artistsalley.net/events/aquatifur-2023/
LOCATION:Chula Vista Resort – Wisconsin Dells Waterpark Resort\, 1000 Chula Vista Parkway\, Wisconsin Dells\, Wisconsin\, 53965\, United States
CATEGORIES:Furry
END:VEVENT
END:VCALENDAR